BEGIN:VCALENDAR
VERSION:2.0
PRODID:-//URI Innovations - ECPv6.15.20//NONSGML v1.0//EN
CALSCALE:GREGORIAN
METHOD:PUBLISH
X-WR-CALNAME:URI Innovations
X-ORIGINAL-URL:https://uriinnovations.org
X-WR-CALDESC:Events for URI Innovations
REFRESH-INTERVAL;VALUE=DURATION:PT1H
X-Robots-Tag:noindex
X-PUBLISHED-TTL:PT1H
BEGIN:VTIMEZONE
TZID:America/New_York
BEGIN:DAYLIGHT
TZOFFSETFROM:-0500
TZOFFSETTO:-0400
TZNAME:EDT
DTSTART:20250309T070000
END:DAYLIGHT
BEGIN:STANDARD
TZOFFSETFROM:-0400
TZOFFSETTO:-0500
TZNAME:EST
DTSTART:20251102T060000
END:STANDARD
BEGIN:DAYLIGHT
TZOFFSETFROM:-0500
TZOFFSETTO:-0400
TZNAME:EDT
DTSTART:20260308T070000
END:DAYLIGHT
BEGIN:STANDARD
TZOFFSETFROM:-0400
TZOFFSETTO:-0500
TZNAME:EST
DTSTART:20261101T060000
END:STANDARD
BEGIN:DAYLIGHT
TZOFFSETFROM:-0500
TZOFFSETTO:-0400
TZNAME:EDT
DTSTART:20270314T070000
END:DAYLIGHT
BEGIN:STANDARD
TZOFFSETFROM:-0400
TZOFFSETTO:-0500
TZNAME:EST
DTSTART:20271107T060000
END:STANDARD
END:VTIMEZONE
BEGIN:VEVENT
DTSTART;TZID=America/New_York:20260421T113000
DTEND;TZID=America/New_York:20260421T133000
DTSTAMP:20260421T053706
CREATED:20260417T151614Z
LAST-MODIFIED:20260420T151614Z
UID:10000009-1776771000-1776778200@uriinnovations.org
SUMMARY:Ideation Table
DESCRIPTION:Stop by and learn about our Innovation and Entrepreneurship programs!\nSnacks provided!
URL:https://uriinnovations.org/event/ideation-table/
LOCATION:The Fascitelli Center for Advance Engineering\, Kingston\, RI 02881\, USA (Toray Commons)
ATTACH;FMTTYPE=image/png:https://uriinnovations.org/wp-content/uploads/2026/04/LOGO-EVENTS.png
END:VEVENT
BEGIN:VEVENT
DTSTART;TZID=America/New_York:20260422T160000
DTEND;TZID=America/New_York:20260422T180000
DTSTAMP:20260421T053706
CREATED:20260408T144145Z
LAST-MODIFIED:20260420T151614Z
UID:10000005-1776873600-1776880800@uriinnovations.org
SUMMARY:Ideation Studio Pitch Night
DESCRIPTION:
URL:https://uriinnovations.org/event/ideation-studio-pitch-night/
LOCATION:Beaupre Center for Chemical & Forensic Sciences\, 140 Flagg Rd\, Kingston\, RI 02881\, USA (Room 105)
ATTACH;FMTTYPE=image/png:https://uriinnovations.org/wp-content/uploads/2026/04/LOGO-EVENTS.png
END:VEVENT
BEGIN:VEVENT
DTSTART;TZID=America/New_York:20260423T170000
DTEND;TZID=America/New_York:20260423T200000
DTSTAMP:20260421T053706
CREATED:20260408T144146Z
LAST-MODIFIED:20260420T151614Z
UID:10000006-1776963600-1776974400@uriinnovations.org
SUMMARY:RI-Pitch: Pitch Your Startup. Make Your Mark.
DESCRIPTION:Rhode Island’s premier annual pitch event brings together the region’s most promising entrepreneurs for a fast-paced\, high-energy showcase of bold ideas. \nWatch as 12 selected startups take the stage — 3 minutes to pitch\, 2 minutes of Q&A\, and one big opportunity to stand out. \nJoin us at URI to pitch your startup\, receive feedback from expert judges\, and connect with founders\, investors\, and innovation leaders. \nWhere Innovation Meets Opportunity.Your gateway to Rhode Island’s thriving startup ecosystem. \nLocation: URI Pharmacy Building (PHMC) 41 Lower College Road\, Kingston\, RI. It is the Ernest Mario ’63\, ’66 3D Visualization Auditorium \nRegister to attend or pitch: https://rihub.org/ri-pitch/
URL:https://uriinnovations.org/event/ri-pitch-pitch-your-startup-make-your-mark/
LOCATION:41 Lower College Rd\, Kingston\, RI\, United States
ATTACH;FMTTYPE=image/jpeg:https://uriinnovations.org/wp-content/uploads/2026/04/RI-PITCH-2026-2-2-1.jpg
GEO:41.482901;-71.524317
END:VEVENT
END:VCALENDAR